Workbook

Sheet Závodníci
A1: St. č. | B1: Jméno a příjmení | C1: Kategorie | D1: Kámen | E1: Bulina | F1: Kladivo | G1: Kláda | H1: Výška | I1: Kámen T | J1: Bulina T | K1: Kladivo T | L1: celkem | M1: pořadí | O1: st.č. | P1: závodník | Q1: body
A2: 1. | B2: závodník 1 | C2: Heavy A | D2: =Kámen!H2 -> 0 | E2: =Bulina!H2 -> 0 | F2: =Kladivo!H2 -> 0 | G2: =Kláda!H2 -> 0 | H2: =Výška!E3 -> 0 | I2: ='Kámen těžký'!H2 -> 0 | J2: ='Bulina těžká'!H2 -> 0 | K2: ='Kladivo těžký'!H2 -> 0 | L2: =SUM(D2:K2) -> 0 | O2: 1
A3: 2. | B3: závodník 2 | C3: Heavy A | D3: =Kámen!H3 -> 0 | E3: =Bulina!H3 -> 0 | F3: =Kladivo!H3 -> 0 | G3: =Kláda!H3 -> 0 | H3: =Výška!E4 -> 0 | I3: ='Kámen těžký'!H3 -> 0 | J3: ='Bulina těžká'!H3 -> 0 | K3: ='Kladivo těžký'!H3 -> 0 | L3: =SUM(D3:K3) -> 0 | O3: 2
A4: 3. | B4: závodník 3 | C4: Heavy A | D4: =Kámen!H4 -> 0 | E4: =Bulina!H4 -> 0 | F4: =Kladivo!H4 -> 0 | G4: =Kláda!H4 -> 0 | H4: =Výška!E5 -> 0 | I4: ='Kámen těžký'!H4 -> 0 | J4: ='Bulina těžká'!H4 -> 0 | K4: ='Kladivo těžký'!H4 -> 0 | L4: =SUM(D4:K4) -> 0 | O4: 3
A5: 4. | B5: závodník 4 | C5: Heavy A | D5: =Kámen!H5 -> 0 | E5: =Bulina!H5 -> 0 | F5: =Kladivo!H5 -> 0 | G5: =Kláda!H5 -> 0 | H5: =Výška!E6 -> 0 | I5: ='Kámen těžký'!H5 -> 0 | J5: ='Bulina těžká'!H5 -> 0 | K5: ='Kladivo těžký'!H5 -> 0 | L5: =SUM(D5:K5) -> 0 | O5: 4
A6: 5. | B6: závodník 5 | C6: Heavy A | D6: =Kámen!H6 -> 0 | E6: =Bulina!H6 -> 0 | F6: =Kladivo!H6 -> 0 | G6: =Kláda!H6 -> 0 | H6: =Výška!E7 -> 0 | I6: ='Kámen těžký'!H6 -> 0 | J6: ='Bulina těžká'!H6 -> 0 | K6: ='Kladivo těžký'!H6 -> 0 | L6: =SUM(D6:K6) -> 0 | O6: 5
A7: 6. | B7: závodník 6 | C7: Heavy A | D7: =Kámen!H7 -> 0 | E7: =Bulina!H7 -> 0 | F7: =Kladivo!H7 -> 0 | G7: =Kláda!H7 -> 0 | H7: =Výška!E8 -> 0 | I7: ='Kámen těžký'!H7 -> 0 | J7: ='Bulina těžká'!H7 -> 0 | K7: ='Kladivo těžký'!H7 -> 0 | L7: =SUM(D7:K7) -> 0 | O7: 6
A8: 7. | B8: závodník 7 | C8: Heavy A | D8: =Kámen!H8 -> 0 | E8: =Bulina!H8 -> 0 | F8: =Kladivo!H8 -> 0 | G8: =Kláda!H8 -> 0 | H8: =Výška!E9 -> 0 | I8: ='Kámen těžký'!H8 -> 0 | J8: ='Bulina těžká'!H8 -> 0 | K8: ='Kladivo těžký'!H8 -> 0 | L8: =SUM(D8:K8) -> 0 | O8: 7
A9: 8. | B9: závodník 8 | C9: Heavy A | D9: =Kámen!H9 -> 0 | E9: =Bulina!H9 -> 0 | F9: =Kladivo!H9 -> 0 | G9: =Kláda!H9 -> 0 | H9: =Výška!E10 -> 0 | I9: ='Kámen těžký'!H9 -> 0 | J9: ='Bulina těžká'!H9 -> 0 | K9: ='Kladivo těžký'!H9 -> 0 | L9: =SUM(D9:K9) -> 0 | O9: 8
A10: 9. | B10: závodník 9 | C10: Heavy A | D10: =Kámen!H10 -> 0 | E10: =Bulina!H10 -> 0 | F10: =Kladivo!H10 -> 0 | G10: =Kláda!H10 -> 0 | H10: =Výška!E11 -> 0 | I10: ='Kámen těžký'!H10 -> 0 | J10: ='Bulina těžká'!H10 -> 0 | K10: ='Kladivo těžký'!H10 -> 0 | L10: =SUM(D10:K10) -> 0 | O10: 9
A11: 10. | B11: závodník 10 | C11: Heavy A | D11: =Kámen!H11 -> 0 | E11: =Bulina!H11 -> 0 | F11: =Kladivo!H11 -> 0 | G11: =Kláda!H11 -> 0 | H11: =Výška!E12 -> 0 | I11: ='Kámen těžký'!H11 -> 0 | J11: ='Bulina těžká'!H11 -> 0 | K11: ='Kladivo těžký'!H11 -> 0 | L11: =SUM(D11:K11) -> 0 | O11: 10
A12: 11. | B12: závodník 11 | C12: Heavy A | D12: =Kámen!H12 -> 0 | E12: =Bulina!H12 -> 0 | F12: =Kladivo!H12 -> 0 | G12: =Kláda!H12 -> 0 | H12: =Výška!E13 -> 0 | I12: ='Kámen těžký'!H12 -> 0 | J12: ='Bulina těžká'!H12 -> 0 | K12: ='Kladivo těžký'!H12 -> 0 | L12: =SUM(D12:K12) -> 0 | O12: 11
A13: 12. | B13: závodník 12 | C13: Heavy A | D13: =Kámen!H13 -> 0 | E13: =Bulina!H13 -> 0 | F13: =Kladivo!H13 -> 0 | G13: =Kláda!H13 -> 0 | H13: =Výška!E14 -> 0 | I13: ='Kámen těžký'!H13 -> 0 | J13: ='Bulina těžká'!H13 -> 0 | K13: ='Kladivo těžký'!H13 -> 0 | L13: =SUM(D13:K13) -> 0 | O13: 12
... A18: 17. | B18: závodník 17 | C18: Heavy A | D18: =Kámen!H18 -> 0 | E18: =Bulina!H18 -> 0 | F18: =Kladivo!H18 -> 0 | G18: =Kláda!H18 -> 0 | H18: =Výška!E19 -> 0 | I18: ='Kámen těžký'!H18 -> 0 | J18: ='Bulina těžká'!H18 -> 0 | K18: ='Kladivo těžký'!H18 -> 0 | L18: =SUM(D18:K18) -> 0 | O18: 17
A20: St. č. | B20: Jméno a příjmení | C20: Kategorie | D20: Kámen | E20: Bulina | F20: Kladivo | G20: Kláda | H20: Výška | I20: Kámen T | J20: Bulina T | K20: Kladivo T | L20: celkem | M20: pořadí | O20: st.č. | P20: závodník | Q20: body
A21: 1. | B21: závodník 1 | C21: Masters | D21: =Kámen!H21 -> 0 | E21: =Bulina!H21 -> 0 | F21: =Kladivo!H21 -> 0 | G21: =Kláda!H21 -> 0 | H21: =Výška!E23 -> 0 | I21: ='Kámen těžký'!H21 -> 0 | J21: ='Bulina těžká'!H21 -> 0 | K21: ='Kladivo těžký'!H21 -> 0 | L21: =SUM(D21:K21) -> 0 | O21: 1
A22: 2. | B22: závodník 2 | C22: Masters | D22: =Kámen!H22 -> 0 | E22: =Bulina!H22 -> 0 | F22: =Kladivo!H22 -> 0 | G22: =Kláda!H22 -> 0 | H22: =Výška!E24 -> 0 | I22: ='Kámen těžký'!H22 -> 0 | J22: ='Bulina těžká'!H22 -> 0 | K22: ='Kladivo těžký'!H22 -> 0 | L22: =SUM(D22:K22) -> 0 | O22: 2
A23: 3. | B23: závodník 3 | C23: Masters | D23: =Kámen!H23 -> 0 | E23: =Bulina!H23 -> 0 | F23: =Kladivo!H23 -> 0 | G23: =Kláda!H23 -> 0 | H23: =Výška!E25 -> 0 | I23: ='Kámen těžký'!H23 -> 0 | J23: ='Bulina těžká'!H23 -> 0 | K23: ='Kladivo těžký'!H23 -> 0 | L23: =SUM(D23:K23) -> 0 | O23: 3
A24: 4. | B24: závodník 4 | C24: Masters | D24: =Kámen!H24 -> 0 | E24: =Bulina!H24 -> 0 | F24: =Kladivo!H24 -> 0 | G24: =Kláda!H24 -> 0 | H24: =Výška!E26 -> 0 | I24: ='Kámen těžký'!H24 -> 0 | J24: ='Bulina těžká'!H24 -> 0 | K24: ='Kladivo těžký'!H24 -> 0 | L24: =SUM(D24:K24) -> 0 | O24: 4
A25: 5. | B25: závodník 5 | C25: Masters | D25: =Kámen!H25 -> 0 | E25: =Bulina!H25 -> 0 | F25: =Kladivo!H25 -> 0 | G25: =Kláda!H25 -> 0 | H25: =Výška!E27 -> 0 | I25: ='Kámen těžký'!H25 -> 0 | J25: ='Bulina těžká'!H25 -> 0 | K25: ='Kladivo těžký'!H25 -> 0 | L25: =SUM(D25:K25) -> 0 | O25: 5
A26: 6. | B26: závodník 6 | C26: Masters | D26: =Kámen!H26 -> 0 | E26: =Bulina!H26 -> 0 | F26: =Kladivo!H26 -> 0 | G26: =Kláda!H26 -> 0 | H26: =Výška!E28 -> 0 | I26: ='Kámen těžký'!H26 -> 0 | J26: ='Bulina těžká'!H26 -> 0 | K26: ='Kladivo těžký'!H26 -> 0 | L26: =SUM(D26:K26) -> 0 | O26: 6
A27: 7. | B27: závodník 7 | C27: Masters | D27: =Kámen!H27 -> 0 | E27: =Bulina!H27 -> 0 | F27: =Kladivo!H27 -> 0 | G27: =Kláda!H27 -> 0 | H27: =Výška!E29 -> 0 | I27: ='Kámen těžký'!H27 -> 0 | J27: ='Bulina těžká'!H27 -> 0 | K27: ='Kladivo těžký'!H27 -> 0 | L27: =SUM(D27:K27) -> 0 | O27: 7
A28: 8. | B28: závodník 8 | C28: Masters | D28: =Kámen!H28 -> 0 | E28: =Bulina!H28 -> 0 | F28: =Kladivo!H28 -> 0 | G28: =Kláda!H28 -> 0 | H28: =Výška!E30 -> 0 | I28: ='Kámen těžký'!H28 -> 0 | J28: ='Bulina těžká'!H28 -> 0 | K28: ='Kladivo těžký'!H28 -> 0 | L28: =SUM(D28:K28) -> 0 | O28: 8
A29: 9. | B29: závodník 9 | C29: Masters | D29: =Kámen!H29 -> 0 | E29: =Bulina!H29 -> 0 | F29: =Kladivo!H29 -> 0 | G29: =Kláda!H29 -> 0 | H29: =Výška!E31 -> 0 | I29: ='Kámen těžký'!H29 -> 0 | J29: ='Bulina těžká'!H29 -> 0 | K29: ='Kladivo těžký'!H29 -> 0 | L29: =SUM(D29:K29) -> 0 | O29: 9
A32: St. č. | B32: Jméno a příjmení | C32: Kategorie | D32: Kámen | E32: Bulina | F32: Kladivo | G32: Kláda | H32: Výška | I32: Kámen T | J32: Bulina T | K32: Kladivo T | L32: celkem | M32: pořadí | O32: st.č. | P32: závodník | Q32: body
A33: 1. | B33: závodník 1 | C33: Women | D33: =Kámen!H32 -> 0 | E33: =Bulina!H32 -> 0 | F33: =Kladivo!H32 -> 0 | G33: =Kláda!H32 -> 0 | H33: =Výška!E35 -> 0 | I33: ='Kámen těžký'!H32 -> 0 | J33: ='Bulina těžká'!H32 -> 0 | K33: ='Kladivo těžký'!H32 -> 0 | L33: =SUM(D33:K33) -> 0 | O33: 1
A34: 2. | B34: závodník 2 | C34: Women | D34: =Kámen!H33 -> 0 | E34: =Bulina!H33 -> 0 | F34: =Kladivo!H33 -> 0 | G34: =Kláda!H33 -> 0 | H34: =Výška!E36 -> 0 | I34: ='Kámen těžký'!H33 -> 0 | J34: ='Bulina těžká'!H33 -> 0 | K34: ='Kladivo těžký'!H33 -> 0 | L34: =SUM(D34:K34) -> 0 | O34: 2
A35: 3. | B35: závodník 3 | C35: Women | D35: =Kámen!H34 -> 0 | E35: =Bulina!H34 -> 0 | F35: =Kladivo!H34 -> 0 | G35: =Kláda!H34 -> 0 | H35: =Výška!E37 -> 0 | I35: ='Kámen těžký'!H34 -> 0 | J35: ='Bulina těžká'!H34 -> 0 | K35: ='Kladivo těžký'!H34 -> 0 | L35: =SUM(D35:K35) -> 0 | O35: 3
A36: 4. | B36: závodník 4 | C36: Women | D36: =Kámen!H35 -> 0 | E36: =Bulina!H35 -> 0 | F36: =Kladivo!H35 -> 0 | G36: =Kláda!H35 -> 0 | H36: =Výška!E38 -> 0 | I36: ='Kámen těžký'!H35 -> 0 | J36: ='Bulina těžká'!H35 -> 0 | K36: ='Kladivo těžký'!H35 -> 0 | L36: =SUM(D36:K36) -> 0 | O36: 4
A37: 5. | B37: závodník 5 | C37: Women | D37: =Kámen!H36 -> 0 | E37: =Bulina!H36 -> 0 | F37: =Kladivo!H36 -> 0 | G37: =Kláda!H36 -> 0 | H37: =Výška!E39 -> 0 | I37: ='Kámen těžký'!H36 -> 0 | J37: ='Bulina těžká'!H36 -> 0 | K37: ='Kladivo těžký'!H36 -> 0 | L37: =SUM(D37:K37) -> 0 | O37: 5
A38: 6. | B38: závodník 6 | C38: Women | D38: =Kámen!H37 -> 0 | E38: =Bulina!H37 -> 0 | F38: =Kladivo!H37 -> 0 | G38: =Kláda!H37 -> 0 | H38: =Výška!E40 -> 0 | I38: ='Kámen těžký'!H37 -> 0 | J38: ='Bulina těžká'!H37 -> 0 | K38: ='Kladivo těžký'!H37 -> 0 | L38: =SUM(D38:K38) -> 0 | O38: 6
A39: 7. | B39: závodník 7 | C39: Women | D39: =Kámen!H38 -> 0 | E39: =Bulina!H38 -> 0 | F39: =Kladivo!H38 -> 0 | G39: =Kláda!H38 -> 0 | H39: =Výška!E41 -> 0 | I39: ='Kámen těžký'!H38 -> 0 | J39: ='Bulina těžká'!H38 -> 0 | K39: ='Kladivo těžký'!H38 -> 0 | L39: =SUM(D39:K39) -> 0 | O39: 7
A40: 8. | B40: závodník 8 | C40: Women | D40: =Kámen!H39 -> 0 | E40: =Bulina!H39 -> 0 | F40: =Kladivo!H39 -> 0 | G40: =Kláda!H39 -> 0 | H40: =Výška!E42 -> 0 | I40: ='Kámen těžký'!H39 -> 0 | J40: ='Bulina těžká'!H39 -> 0 | K40: ='Kladivo těžký'!H39 -> 0 | L40: =SUM(D40:K40) -> 0 | O40: 8
A42: generátor losování pořadí
A43: https://cs.piliapp.com/random/list/

Sheet Kámen
A1: Závodník | B1: Kategorie | C1: 1.pokus | D1: 2.pokus | E1: 3.pokus | F1: Nejlepší pokus | G1: Pořadí | H1: Počet bodů | J1: pořadí | K1: závodník | L1: nejlepší výkon
A2: =Závodníci!B2 -> závodník 1 | B2: =Závodníci!C2 -> Heavy A | C2: 1 | D2: 2 | E2: 3 | J2: 1
A3: =Závodníci!B3 -> závodník 2 | B3: =Závodníci!C3 -> Heavy A | C3: 1 | D3: 2 | E3: 3 | J3: 2
A4: =Závodníci!B4 -> závodník 3 | B4: =Závodníci!C4 -> Heavy A | C4: 1 | D4: 2 | E4: 3 | J4: 3
A5: =Závodníci!B5 -> závodník 4 | B5: =Závodníci!C5 -> Heavy A | C5: 1 | D5: 2 | E5: 3 | J5: 4
A6: =Závodníci!B6 -> závodník 5 | B6: =Závodníci!C6 -> Heavy A | C6: 1 | D6: 2 | E6: 3 | J6: 5
A7: =Závodníci!B7 -> závodník 6 | B7: =Závodníci!C7 -> Heavy A | C7: 1 | D7: 2 | E7: 3 | J7: 6
A8: =Závodníci!B8 -> závodník 7 | B8: =Závodníci!C8 -> Heavy A | C8: 1 | D8: 2 | E8: 3 | J8: 7
A9: =Závodníci!B9 -> závodník 8 | B9: =Závodníci!C9 -> Heavy A | C9: 1 | D9: 2 | E9: 3 | J9: 8
A10: =Závodníci!B10 -> závodník 9 | B10: =Závodníci!C10 -> Heavy A | C10: 1 | D10: 2 | E10: 3 | J10: 9
A11: =Závodníci!B11 -> závodník 10 | B11: =Závodníci!C11 -> Heavy A | C11: 1 | D11: 2 | E11: 3 | J11: 10
A12: =Závodníci!B12 -> závodník 11 | B12: =Závodníci!C12 -> Heavy A | C12: 1 | D12: 2 | E12: 3 | J12: 11
A13: =Závodníci!B13 -> závodník 12 | B13: =Závodníci!C13 -> Heavy A | C13: 1 | D13: 2 | E13: 3 | J13: 12
... A18: =Závodníci!B18 -> závodník 17 | B18: =Závodníci!C18 -> Heavy A | C18: 1 | D18: 2 | E18: 3 | J18: 17
A20: Závodník | B20: Kategorie | C20: 1.pokus | D20: 2.pokus | E20: 3.pokus | F20: Nejlepší pokus | G20: Pořadí | H20: Počet bodů | J20: pořadí | K20: závodník | L20: nejlepší výkon
A21: =Závodníci!B21 -> závodník 1 | B21: =Závodníci!C21 -> Masters | C21: 1 | D21: 2 | E21: 3 | J21: 1
A22: =Závodníci!B22 -> závodník 2 | B22: =Závodníci!C22 -> Masters | C22: 1 | D22: 2 | E22: 3 | J22: 2
A23: =Závodníci!B23 -> závodník 3 | B23: =Závodníci!C23 -> Masters | C23: 1 | D23: 2 | E23: 3 | J23: 3
A24: =Závodníci!B24 -> závodník 4 | B24: =Závodníci!C24 -> Masters | C24: 1 | D24: 2 | E24: 3 | J24: 4
A25: =Závodníci!B25 -> závodník 5 | B25: =Závodníci!C25 -> Masters | C25: 1 | D25: 2 | E25: 3 | J25: 5
A26: =Závodníci!B26 -> závodník 6 | B26: Masters | C26: 1 | D26: 2 | E26: 3 | J26: 6
A27: =Závodníci!B27 -> závodník 7 | B27: Masters | C27: 1 | D27: 2 | E27: 3 | J27: 7
A28: =Závodníci!B28 -> závodník 8 | B28: Masters | C28: 1 | D28: 2 | E28: 3 | J28: 8
A29: =Závodníci!B29 -> závodník 9 | B29: Masters | C29: 1 | D29: 2 | E29: 3 | J29: 9
A31: Závodník | B31: Kategorie | C31: 1.pokus | D31: 2.pokus | E31: 3.pokus | F31: Nejlepší pokus | G31: Pořadí | H31: Počet bodů | J31: pořadí | K31: závodník | L31: nejlepší výkon
A32: =Závodníci!B33 -> závodník 1 | B32: =Závodníci!C33 -> Women | C32: 1 | D32: 2 | E32: 3 | J32: 1
A33: =Závodníci!B34 -> závodník 2 | B33: =Závodníci!C34 -> Women | C33: 1 | D33: 2 | E33: 3 | J33: 2
A34: =Závodníci!B35 -> závodník 3 | B34: =Závodníci!C35 -> Women | C34: 1 | D34: 2 | E34: 3 | J34: 3
A35: =Závodníci!B36 -> závodník 4 | B35: =Závodníci!C36 -> Women | C35: 1 | D35: 2 | E35: 3 | J35: 4
A36: =Závodníci!B37 -> závodník 5 | B36: =Závodníci!C37 -> Women | C36: 1 | D36: 2 | E36: 3 | J36: 5
A37: =Závodníci!B38 -> závodník 6 | B37: Women | C37: 1 | D37: 2 | E37: 3 | J37: 6
A38: =Závodníci!B39 -> závodník 7 | B38: Women | C38: 1 | D38: 2 | E38: 3 | J38: 7
A39: =Závodníci!B40 -> závodník 8 | B39: Women | C39: 1 | D39: 2 | E39: 3 | J39: 8

Sheet Bulina
A1: Závodník | B1: Kategorie | C1: 1.pokus | D1: 2.pokus | E1: 3.pokus | F1: Nejlepší pokus | G1: Pořadí | H1: Počet bodů | J1: pořadí | K1: závodník | L1: nejlepší výkon
A2: =Závodníci!B2 -> závodník 1 | B2: =Závodníci!C2 -> Heavy A | C2: 1 | D2: 2 | E2: 3 | J2: 1
A3: =Závodníci!B3 -> závodník 2 | B3: =Závodníci!C3 -> Heavy A | C3: 1 | D3: 2 | E3: 3 | J3: 2
A4: =Závodníci!B4 -> závodník 3 | B4: =Závodníci!C4 -> Heavy A | C4: 1 | D4: 2 | E4: 3 | J4: 3
A5: =Závodníci!B5 -> závodník 4 | B5: =Závodníci!C5 -> Heavy A | C5: 1 | D5: 2 | E5: 3 | J5: 4
A6: =Závodníci!B6 -> závodník 5 | B6: =Závodníci!C6 -> Heavy A | C6: 1 | D6: 2 | E6: 3 | J6: 5
A7: =Závodníci!B7 -> závodník 6 | B7: =Závodníci!C7 -> Heavy A | C7: 1 | D7: 2 | E7: 3 | J7: 6
A8: =Závodníci!B8 -> závodník 7 | B8: =Závodníci!C8 -> Heavy A | C8: 1 | D8: 2 | E8: 3 | J8: 7
A9: =Závodníci!B9 -> závodník 8 | B9: =Závodníci!C9 -> Heavy A | C9: 1 | D9: 2 | E9: 3 | J9: 8
A10: =Závodníci!B10 -> závodník 9 | B10: =Závodníci!C10 -> Heavy A | C10: 1 | D10: 2 | E10: 3 | J10: 9
A11: =Závodníci!B11 -> závodník 10 | B11: =Závodníci!C11 -> Heavy A | C11: 1 | D11: 2 | E11: 3 | J11: 10
A12: =Závodníci!B12 -> závodník 11 | B12: =Závodníci!C12 -> Heavy A | C12: 1 | D12: 2 | E12: 3 | J12: 11
A13: =Závodníci!B13 -> závodník 12 | B13: =Závodníci!C13 -> Heavy A | C13: 1 | D13: 2 | E13: 3 | J13: 12
... A18: =Závodníci!B18 -> závodník 17 | B18: =Závodníci!C18 -> Heavy A | C18: 1 | D18: 2 | E18: 3 | J18: 17
A20: Závodník | B20: Kategorie | C20: 1.pokus | D20: 2.pokus | E20: 3.pokus | F20: Nejlepší pokus | G20: Pořadí | H20: Počet bodů | J20: pořadí | K20: závodník | L20: nejlepší výkon
A21: =Závodníci!B21 -> závodník 1 | B21: =Závodníci!C21 -> Masters | C21: 1 | D21: 2 | E21: 3 | J21: 1
A22: =Závodníci!B22 -> závodník 2 | B22: =Závodníci!C22 -> Masters | C22: 1 | D22: 2 | E22: 3 | J22: 2
A23: =Závodníci!B23 -> závodník 3 | B23: =Závodníci!C23 -> Masters | C23: 1 | D23: 2 | E23: 3 | J23: 3
A24: =Závodníci!B24 -> závodník 4 | B24: =Závodníci!C24 -> Masters | C24: 1 | D24: 2 | E24: 3 | J24: 4
A25: =Závodníci!B25 -> závodník 5 | B25: =Závodníci!C25 -> Masters | C25: 1 | D25: 2 | E25: 3 | J25: 5
A26: =Závodníci!B26 -> závodník 6 | B26: Masters | C26: 1 | D26: 2 | E26: 3 | J26: 6
A27: =Závodníci!B27 -> závodník 7 | B27: Masters | C27: 1 | D27: 2 | E27: 3 | J27: 7
A28: =Závodníci!B28 -> závodník 8 | B28: Masters | C28: 1 | D28: 2 | E28: 3 | J28: 8
A29: =Závodníci!B29 -> závodník 9 | B29: Masters | C29: 1 | D29: 2 | E29: 3 | J29: 9
A31: Závodník | B31: Kategorie | C31: 1.pokus | D31: 2.pokus | E31: 3.pokus | F31: Nejlepší pokus | G31: Pořadí | H31: Počet bodů | J31: pořadí | K31: závodník | L31: nejlepší výkon
A32: =Závodníci!B33 -> závodník 1 | B32: =Závodníci!C33 -> Women | C32: 1 | D32: 2 | E32: 3 | J32: 1
A33: =Závodníci!B34 -> závodník 2 | B33: =Závodníci!C34 -> Women | C33: 1 | D33: 2 | E33: 3 | J33: 2
A34: =Závodníci!B35 -> závodník 3 | B34: =Závodníci!C35 -> Women | C34: 1 | D34: 2 | E34: 3 | J34: 3
A35: =Závodníci!B36 -> závodník 4 | B35: =Závodníci!C36 -> Women | C35: 1 | D35: 2 | E35: 3 | J35: 4
A36: =Závodníci!B37 -> závodník 5 | B36: =Závodníci!C37 -> Women | C36: 1 | D36: 2 | E36: 3 | J36: 5
A37: =Závodníci!B38 -> závodník 6 | B37: Women | C37: 1 | D37: 2 | E37: 3 | J37: 6
A38: =Závodníci!B39 -> závodník 7 | B38: Women | C38: 1 | D38: 2 | E38: 3 | J38: 7
A39: =Závodníci!B40 -> závodník 8 | B39: Women | C39: 1 | D39: 2 | E39: 3 | J39: 8

Sheet Kladivo
A1: Závodník | B1: Kategorie | C1: 1.pokus | D1: 2.pokus | E1: 3.pokus | F1: Nejlepší pokus | G1: Pořadí | H1: Počet bodů | J1: pořadí | K1: závodník | L1: nejlepší výkon
A2: =Závodníci!B2 -> závodník 1 | B2: =Závodníci!C2 -> Heavy A | C2: 1 | D2: 2 | E2: 3 | J2: 1
A3: =Závodníci!B3 -> závodník 2 | B3: =Závodníci!C3 -> Heavy A | C3: 1 | D3: 2 | E3: 3 | J3: 2
A4: =Závodníci!B4 -> závodník 3 | B4: =Závodníci!C4 -> Heavy A | C4: 1 | D4: 2 | E4: 3 | J4: 3
A5: =Závodníci!B5 -> závodník 4 | B5: =Závodníci!C5 -> Heavy A | C5: 1 | D5: 2 | E5: 3 | J5: 4
A6: =Závodníci!B6 -> závodník 5 | B6: =Závodníci!C6 -> Heavy A | C6: 1 | D6: 2 | E6: 3 | J6: 5
A7: =Závodníci!B7 -> závodník 6 | B7: =Závodníci!C7 -> Heavy A | C7: 1 | D7: 2 | E7: 3 | J7: 6
A8: =Závodníci!B8 -> závodník 7 | B8: =Závodníci!C8 -> Heavy A | C8: 1 | D8: 2 | E8: 3 | J8: 7
A9: =Závodníci!B9 -> závodník 8 | B9: =Závodníci!C9 -> Heavy A | C9: 1 | D9: 2 | E9: 3 | J9: 8
A10: =Závodníci!B10 -> závodník 9 | B10: =Závodníci!C10 -> Heavy A | C10: 1 | D10: 2 | E10: 3 | J10: 9
A11: =Závodníci!B11 -> závodník 10 | B11: =Závodníci!C11 -> Heavy A | C11: 1 | D11: 2 | E11: 3 | J11: 10
A12: =Závodníci!B12 -> závodník 11 | B12: =Závodníci!C12 -> Heavy A | C12: 1 | D12: 2 | E12: 3 | J12: 11
A13: =Závodníci!B13 -> závodník 12 | B13: =Závodníci!C13 -> Heavy A | C13: 1 | D13: 2 | E13: 3 | J13: 12
... A18: =Závodníci!B18 -> závodník 17 | B18: =Závodníci!C18 -> Heavy A | C18: 1 | D18: 2 | E18: 3 | J18: 17
A20: Závodník | B20: Kategorie | C20: 1.pokus | D20: 2.pokus | E20: 3.pokus | F20: Nejlepší pokus | G20: Pořadí | H20: Počet bodů | J20: pořadí | K20: závodník | L20: nejlepší výkon
A21: =Závodníci!B21 -> závodník 1 | B21: =Závodníci!C21 -> Masters | C21: 1 | D21: 2 | E21: 3 | J21: 1
A22: =Závodníci!B22 -> závodník 2 | B22: =Závodníci!C22 -> Masters | C22: 1 | D22: 2 | E22: 3 | J22: 2
A23: =Závodníci!B23 -> závodník 3 | B23: =Závodníci!C23 -> Masters | C23: 1 | D23: 2 | E23: 3 | J23: 3
A24: =Závodníci!B24 -> závodník 4 | B24: =Závodníci!C24 -> Masters | C24: 1 | D24: 2 | E24: 3 | J24: 4
A25: =Závodníci!B25 -> závodník 5 | B25: =Závodníci!C25 -> Masters | C25: 1 | D25: 2 | E25: 3 | J25: 5
A26: =Závodníci!B26 -> závodník 6 | B26: Masters | C26: 1 | D26: 2 | E26: 3 | J26: 6
A27: =Závodníci!B27 -> závodník 7 | B27: Masters | C27: 1 | D27: 2 | E27: 3 | J27: 7
A28: =Závodníci!B28 -> závodník 8 | B28: Masters | C28: 1 | D28: 2 | E28: 3 | J28: 8
A29: =Závodníci!B29 -> závodník 9 | B29: Masters | C29: 1 | D29: 2 | E29: 3 | J29: 9
A31: Závodník | B31: Kategorie | C31: 1.pokus | D31: 2.pokus | E31: 3.pokus | F31: Nejlepší pokus | G31: Pořadí | H31: Počet bodů | J31: pořadí | K31: závodník | L31: nejlepší výkon
A32: =Závodníci!B33 -> závodník 1 | B32: =Závodníci!C33 -> Women | C32: 1 | D32: 2 | E32: 3 | J32: 1
A33: =Závodníci!B34 -> závodník 2 | B33: =Závodníci!C34 -> Women | C33: 1 | D33: 2 | E33: 3 | J33: 2
A34: =Závodníci!B35 -> závodník 3 | B34: =Závodníci!C35 -> Women | C34: 1 | D34: 2 | E34: 3 | J34: 3
A35: =Závodníci!B36 -> závodník 4 | B35: =Závodníci!C36 -> Women | C35: 1 | D35: 2 | E35: 3 | J35: 4
A36: =Závodníci!B37 -> závodník 5 | B36: =Závodníci!C37 -> Women | C36: 1 | D36: 2 | E36: 3 | J36: 5
A37: =Závodníci!B38 -> závodník 6 | B37: Women | C37: 1 | D37: 2 | E37: 3 | J37: 6
A38: =Závodníci!B39 -> závodník 7 | B38: Women | C38: 1 | D38: 2 | E38: 3 | J38: 7
A39: =Závodníci!B40 -> závodník 8 | B39: Women | C39: 1 | D39: 2 | E39: 3 | J39: 8

Sheet Kláda
A1: Závodník | B1: Kategorie | C1: 1.pokus | D1: 2.pokus | E1: 3.pokus | F1: Nejlepší pokus | G1: Pořadí | H1: Počet bodů | J1: pořadí | K1: závodník | L1: nejlepší výkon
A2: =Závodníci!B2 -> závodník 1 | B2: =Závodníci!C2 -> Heavy A | C2: 1 | D2: 2 | E2: 3 | J2: 1
A3: =Závodníci!B3 -> závodník 2 | B3: =Závodníci!C3 -> Heavy A | C3: 1 | D3: 2 | E3: 3 | J3: 2
A4: =Závodníci!B4 -> závodník 3 | B4: =Závodníci!C4 -> Heavy A | C4: 1 | D4: 2 | E4: 3 | J4: 3
A5: =Závodníci!B5 -> závodník 4 | B5: =Závodníci!C5 -> Heavy A | C5: 1 | D5: 2 | E5: 3 | J5: 4
A6: =Závodníci!B6 -> závodník 5 | B6: =Závodníci!C6 -> Heavy A | C6: 1 | D6: 2 | E6: 3 | J6: 5
A7: =Závodníci!B7 -> závodník 6 | B7: =Závodníci!C7 -> Heavy A | C7: 1 | D7: 2 | E7: 3 | J7: 6
A8: =Závodníci!B8 -> závodník 7 | B8: =Závodníci!C8 -> Heavy A | C8: 1 | D8: 2 | E8: 3 | J8: 7
A9: =Závodníci!B9 -> závodník 8 | B9: =Závodníci!C9 -> Heavy A | C9: 1 | D9: 2 | E9: 3 | J9: 8
A10: =Závodníci!B10 -> závodník 9 | B10: =Závodníci!C10 -> Heavy A | C10: 1 | D10: 2 | E10: 3 | J10: 9
A11: =Závodníci!B11 -> závodník 10 | B11: =Závodníci!C11 -> Heavy A | C11: 1 | D11: 2 | E11: 3 | J11: 10
A12: =Závodníci!B12 -> závodník 11 | B12: =Závodníci!C12 -> Heavy A | C12: 1 | D12: 2 | E12: 3 | J12: 11
A13: =Závodníci!B13 -> závodník 12 | B13: =Závodníci!C13 -> Heavy A | C13: 1 | D13: 2 | E13: 3 | J13: 12
... A18: =Závodníci!B18 -> závodník 17 | B18: =Závodníci!C18 -> Heavy A | C18: 1 | D18: 2 | E18: 3 | J18: 17
A20: Závodník | B20: Kategorie | C20: 1.pokus | D20: 2.pokus | E20: 3.pokus | F20: Nejlepší pokus | G20: Pořadí | H20: Počet bodů | J20: pořadí | K20: závodník | L20: nejlepší výkon
A21: =Závodníci!B21 -> závodník 1 | B21: =Závodníci!C21 -> Masters | C21: 1 | D21: 2 | E21: 3 | J21: 1
A22: =Závodníci!B22 -> závodník 2 | B22: =Závodníci!C22 -> Masters | C22: 1 | D22: 2 | E22: 3 | J22: 2
A23: =Závodníci!B23 -> závodník 3 | B23: =Závodníci!C23 -> Masters | C23: 1 | D23: 2 | E23: 3 | J23: 3
A24: =Závodníci!B24 -> závodník 4 | B24: =Závodníci!C24 -> Masters | C24: 1 | D24: 2 | E24: 3 | J24: 4
A25: =Závodníci!B25 -> závodník 5 | B25: =Závodníci!C25 -> Masters | C25: 1 | D25: 2 | E25: 3 | J25: 5
A26: =Závodníci!B26 -> závodník 6 | B26: Masters | C26: 1 | D26: 2 | E26: 3 | J26: 6
A27: =Závodníci!B27 -> závodník 7 | B27: Masters | C27: 1 | D27: 2 | E27: 3 | J27: 7
A28: =Závodníci!B28 -> závodník 8 | B28: Masters | C28: 1 | D28: 2 | E28: 3 | J28: 8
A29: =Závodníci!B29 -> závodník 9 | B29: Masters | C29: 1 | D29: 2 | E29: 3 | J29: 9
A31: Závodník | B31: Kategorie | C31: 1.pokus | D31: 2.pokus | E31: 3.pokus | F31: Nejlepší pokus | G31: Pořadí | H31: Počet bodů | J31: pořadí | K31: závodník | L31: nejlepší výkon
A32: =Závodníci!B33 -> závodník 1 | B32: =Závodníci!C33 -> Women | C32: 1 | D32: 2 | E32: 3 | J32: 1
A33: =Závodníci!B34 -> závodník 2 | B33: =Závodníci!C34 -> Women | C33: 1 | D33: 2 | E33: 3 | J33: 2
A34: =Závodníci!B35 -> závodník 3 | B34: =Závodníci!C35 -> Women | C34: 1 | D34: 2 | E34: 3 | J34: 3
A35: =Závodníci!B36 -> závodník 4 | B35: =Závodníci!C36 -> Women | C35: 1 | D35: 2 | E35: 3 | J35: 4
A36: =Závodníci!B37 -> závodník 5 | B36: =Závodníci!C37 -> Women | C36: 1 | D36: 2 | E36: 3 | J36: 5
A37: =Závodníci!B38 -> závodník 6 | B37: Women | C37: 1 | D37: 2 | E37: 3 | J37: 6
A38: =Závodníci!B39 -> závodník 7 | B38: Women | C38: 1 | D38: 2 | E38: 3 | J38: 7
A39: =Závodníci!B40 -> závodník 8 | B39: Women | C39: 1 | D39: 2 | E39: 3 | J39: 8

Sheet Kladivo těžký
A1: Závodník | B1: Kategorie | C1: 1.pokus | D1: 2.pokus | E1: 3.pokus | F1: Nejlepší pokus | G1: Pořadí | H1: Počet bodů | J1: pořadí | K1: závodník | L1: nejlepší výkon
A2: =Závodníci!B2 -> závodník 1 | B2: =Závodníci!C2 -> Heavy A | C2: 1 | D2: 2 | E2: 3 | J2: 1
A3: =Závodníci!B3 -> závodník 2 | B3: =Závodníci!C3 -> Heavy A | C3: 1 | D3: 2 | E3: 3 | J3: 2
A4: =Závodníci!B4 -> závodník 3 | B4: =Závodníci!C4 -> Heavy A | C4: 1 | D4: 2 | E4: 3 | J4: 3
A5: =Závodníci!B5 -> závodník 4 | B5: =Závodníci!C5 -> Heavy A | C5: 1 | D5: 2 | E5: 3 | J5: 4
A6: =Závodníci!B6 -> závodník 5 | B6: =Závodníci!C6 -> Heavy A | C6: 1 | D6: 2 | E6: 3 | J6: 5
A7: =Závodníci!B7 -> závodník 6 | B7: =Závodníci!C7 -> Heavy A | C7: 1 | D7: 2 | E7: 3 | J7: 6
A8: =Závodníci!B8 -> závodník 7 | B8: =Závodníci!C8 -> Heavy A | C8: 1 | D8: 2 | E8: 3 | J8: 7
A9: =Závodníci!B9 -> závodník 8 | B9: =Závodníci!C9 -> Heavy A | C9: 1 | D9: 2 | E9: 3 | J9: 8
A10: =Závodníci!B10 -> závodník 9 | B10: =Závodníci!C10 -> Heavy A | C10: 1 | D10: 2 | E10: 3 | J10: 9
A11: =Závodníci!B11 -> závodník 10 | B11: =Závodníci!C11 -> Heavy A | C11: 1 | D11: 2 | E11: 3 | J11: 10
A12: =Závodníci!B12 -> závodník 11 | B12: =Závodníci!C12 -> Heavy A | C12: 1 | D12: 2 | E12: 3 | J12: 11
A13: =Závodníci!B13 -> závodník 12 | B13: =Závodníci!C13 -> Heavy A | C13: 1 | D13: 2 | E13: 3 | J13: 12
... A18: =Závodníci!B18 -> závodník 17 | B18: =Závodníci!C18 -> Heavy A | C18: 1 | D18: 2 | E18: 3 | J18: 17
A20: Závodník | B20: Kategorie | C20: 1.pokus | D20: 2.pokus | E20: 3.pokus | F20: Nejlepší pokus | G20: Pořadí | H20: Počet bodů | J20: pořadí | K20: závodník | L20: nejlepší výkon
A21: =Závodníci!B21 -> závodník 1 | B21: =Závodníci!C21 -> Masters | C21: 1 | D21: 2 | E21: 3 | J21: 1
A22: =Závodníci!B22 -> závodník 2 | B22: =Závodníci!C22 -> Masters | C22: 1 | D22: 2 | E22: 3 | J22: 2
A23: =Závodníci!B23 -> závodník 3 | B23: =Závodníci!C23 -> Masters | C23: 1 | D23: 2 | E23: 3 | J23: 3
A24: =Závodníci!B24 -> závodník 4 | B24: =Závodníci!C24 -> Masters | C24: 1 | D24: 2 | E24: 3 | J24: 4
A25: =Závodníci!B25 -> závodník 5 | B25: =Závodníci!C25 -> Masters | C25: 1 | D25: 2 | E25: 3 | J25: 5
A26: =Závodníci!B26 -> závodník 6 | B26: Masters | C26: 1 | D26: 2 | E26: 3 | J26: 6
A27: =Závodníci!B27 -> závodník 7 | B27: Masters | C27: 1 | D27: 2 | E27: 3 | J27: 7
A28: =Závodníci!B28 -> závodník 8 | B28: Masters | C28: 1 | D28: 2 | E28: 3 | J28: 8
A29: =Závodníci!B29 -> závodník 9 | B29: Masters | C29: 1 | D29: 2 | E29: 3 | J29: 9
A31: Závodník | B31: Kategorie | C31: 1.pokus | D31: 2.pokus | E31: 3.pokus | F31: Nejlepší pokus | G31: Pořadí | H31: Počet bodů | J31: pořadí | K31: závodník | L31: nejlepší výkon
A32: =Závodníci!B33 -> závodník 1 | B32: =Závodníci!C33 -> Women | C32: 1 | D32: 2 | E32: 3 | J32: 1
A33: =Závodníci!B34 -> závodník 2 | B33: =Závodníci!C34 -> Women | C33: 1 | D33: 2 | E33: 3 | J33: 2
A34: =Závodníci!B35 -> závodník 3 | B34: =Závodníci!C35 -> Women | C34: 1 | D34: 2 | E34: 3 | J34: 3
A35: =Závodníci!B36 -> závodník 4 | B35: =Závodníci!C36 -> Women | C35: 1 | D35: 2 | E35: 3 | J35: 4
A36: =Závodníci!B37 -> závodník 5 | B36: =Závodníci!C37 -> Women | C36: 1 | D36: 2 | E36: 3 | J36: 5
A37: =Závodníci!B38 -> závodník 6 | B37: Women | C37: 1 | D37: 2 | E37: 3 | J37: 6
A38: =Závodníci!B39 -> závodník 7 | B38: Women | C38: 1 | D38: 2 | E38: 3 | J38: 7
A39: =Závodníci!B40 -> závodník 8 | B39: Women | C39: 1 | D39: 2 | E39: 3 | J39: 8

Sheet Bulina těžká
A1: Závodník | B1: Kategorie | C1: 1.pokus | D1: 2.pokus | E1: 3.pokus | F1: Nejlepší pokus | G1: Pořadí | H1: Počet bodů | J1: pořadí | K1: závodník | L1: nejlepší výkon
A2: =Závodníci!B2 -> závodník 1 | B2: =Závodníci!C2 -> Heavy A | C2: 1 | D2: 2 | E2: 3 | J2: 1
A3: =Závodníci!B3 -> závodník 2 | B3: =Závodníci!C3 -> Heavy A | C3: 1 | D3: 2 | E3: 3 | J3: 2
A4: =Závodníci!B4 -> závodník 3 | B4: =Závodníci!C4 -> Heavy A | C4: 1 | D4: 2 | E4: 3 | J4: 3
A5: =Závodníci!B5 -> závodník 4 | B5: =Závodníci!C5 -> Heavy A | C5: 1 | D5: 2 | E5: 3 | J5: 4
A6: =Závodníci!B6 -> závodník 5 | B6: =Závodníci!C6 -> Heavy A | C6: 1 | D6: 2 | E6: 3 | J6: 5
A7: =Závodníci!B7 -> závodník 6 | B7: =Závodníci!C7 -> Heavy A | C7: 1 | D7: 2 | E7: 3 | J7: 6
A8: =Závodníci!B8 -> závodník 7 | B8: =Závodníci!C8 -> Heavy A | C8: 1 | D8: 2 | E8: 3 | J8: 7
A9: =Závodníci!B9 -> závodník 8 | B9: =Závodníci!C9 -> Heavy A | C9: 1 | D9: 2 | E9: 3 | J9: 8
A10: =Závodníci!B10 -> závodník 9 | B10: =Závodníci!C10 -> Heavy A | C10: 1 | D10: 2 | E10: 3 | J10: 9
A11: =Závodníci!B11 -> závodník 10 | B11: =Závodníci!C11 -> Heavy A | C11: 1 | D11: 2 | E11: 3 | J11: 10
A12: =Závodníci!B12 -> závodník 11 | B12: =Závodníci!C12 -> Heavy A | C12: 1 | D12: 2 | E12: 3 | J12: 11
A13: =Závodníci!B13 -> závodník 12 | B13: =Závodníci!C13 -> Heavy A | C13: 1 | D13: 2 | E13: 3 | J13: 12
... A18: =Závodníci!B18 -> závodník 17 | B18: =Závodníci!C18 -> Heavy A | C18: 1 | D18: 2 | E18: 3 | J18: 17
A20: Závodník | B20: Kategorie | C20: 1.pokus | D20: 2.pokus | E20: 3.pokus | F20: Nejlepší pokus | G20: Pořadí | H20: Počet bodů | J20: pořadí | K20: závodník | L20: nejlepší výkon
A21: =Závodníci!B21 -> závodník 1 | B21: =Závodníci!C21 -> Masters | C21: 1 | D21: 2 | E21: 3 | J21: 1
A22: =Závodníci!B22 -> závodník 2 | B22: =Závodníci!C22 -> Masters | C22: 1 | D22: 2 | E22: 3 | J22: 2
A23: =Závodníci!B23 -> závodník 3 | B23: =Závodníci!C23 -> Masters | C23: 1 | D23: 2 | E23: 3 | J23: 3
A24: =Závodníci!B24 -> závodník 4 | B24: =Závodníci!C24 -> Masters | C24: 1 | D24: 2 | E24: 3 | J24: 4
A25: =Závodníci!B25 -> závodník 5 | B25: =Závodníci!C25 -> Masters | C25: 1 | D25: 2 | E25: 3 | J25: 5
A26: =Závodníci!B26 -> závodník 6 | B26: Masters | C26: 1 | D26: 2 | E26: 3 | J26: 6
A27: =Závodníci!B27 -> závodník 7 | B27: Masters | C27: 1 | D27: 2 | E27: 3 | J27: 7
A28: =Závodníci!B28 -> závodník 8 | B28: Masters | C28: 1 | D28: 2 | E28: 3 | J28: 8
A29: =Závodníci!B29 -> závodník 9 | B29: Masters | C29: 1 | D29: 2 | E29: 3 | J29: 9
A31: Závodník | B31: Kategorie | C31: 1.pokus | D31: 2.pokus | E31: 3.pokus | F31: Nejlepší pokus | G31: Pořadí | H31: Počet bodů | J31: pořadí | K31: závodník | L31: nejlepší výkon
A32: =Závodníci!B33 -> závodník 1 | B32: =Závodníci!C33 -> Women | C32: 1 | D32: 2 | E32: 3 | J32: 1
A33: =Závodníci!B34 -> závodník 2 | B33: =Závodníci!C34 -> Women | C33: 1 | D33: 2 | E33: 3 | J33: 2
A34: =Závodníci!B35 -> závodník 3 | B34: =Závodníci!C35 -> Women | C34: 1 | D34: 2 | E34: 3 | J34: 3
A35: =Závodníci!B36 -> závodník 4 | B35: =Závodníci!C36 -> Women | C35: 1 | D35: 2 | E35: 3 | J35: 4
A36: =Závodníci!B37 -> závodník 5 | B36: =Závodníci!C37 -> Women | C36: 1 | D36: 2 | E36: 3 | J36: 5
A37: =Závodníci!B38 -> závodník 6 | B37: Women | C37: 1 | D37: 2 | E37: 3 | J37: 6
A38: =Závodníci!B39 -> závodník 7 | B38: Women | C38: 1 | D38: 2 | E38: 3 | J38: 7
A39: =Závodníci!B40 -> závodník 8 | B39: Women | C39: 1 | D39: 2 | E39: 3 | J39: 8

Sheet Kámen těžký
A1: Závodník | B1: Kategorie | C1: 1.pokus | D1: 2.pokus | E1: 3.pokus | F1: Nejlepší pokus | G1: Pořadí | H1: Počet bodů | J1: pořadí | K1: závodník | L1: nejlepší výkon
A2: =Závodníci!B2 -> závodník 1 | B2: =Závodníci!C2 -> Heavy A | C2: 1 | D2: 2 | E2: 3 | J2: 1
A3: =Závodníci!B3 -> závodník 2 | B3: =Závodníci!C3 -> Heavy A | C3: 1 | D3: 2 | E3: 3 | J3: 2
A4: =Závodníci!B4 -> závodník 3 | B4: =Závodníci!C4 -> Heavy A | C4: 1 | D4: 2 | E4: 3 | J4: 3
A5: =Závodníci!B5 -> závodník 4 | B5: =Závodníci!C5 -> Heavy A | C5: 1 | D5: 2 | E5: 3 | J5: 4
A6: =Závodníci!B6 -> závodník 5 | B6: =Závodníci!C6 -> Heavy A | C6: 1 | D6: 2 | E6: 3 | J6: 5
A7: =Závodníci!B7 -> závodník 6 | B7: =Závodníci!C7 -> Heavy A | C7: 1 | D7: 2 | E7: 3 | J7: 6
A8: =Závodníci!B8 -> závodník 7 | B8: =Závodníci!C8 -> Heavy A | C8: 1 | D8: 2 | E8: 3 | J8: 7
A9: =Závodníci!B9 -> závodník 8 | B9: =Závodníci!C9 -> Heavy A | C9: 1 | D9: 2 | E9: 3 | J9: 8
A10: =Závodníci!B10 -> závodník 9 | B10: =Závodníci!C10 -> Heavy A | C10: 1 | D10: 2 | E10: 3 | J10: 9
A11: =Závodníci!B11 -> závodník 10 | B11: =Závodníci!C11 -> Heavy A | C11: 1 | D11: 2 | E11: 3 | J11: 10
A12: =Závodníci!B12 -> závodník 11 | B12: =Závodníci!C12 -> Heavy A | C12: 1 | D12: 2 | E12: 3 | J12: 11
A13: =Závodníci!B13 -> závodník 12 | B13: =Závodníci!C13 -> Heavy A | C13: 1 | D13: 2 | E13: 3 | J13: 12
... A18: =Závodníci!B18 -> závodník 17 | B18: =Závodníci!C18 -> Heavy A | C18: 1 | D18: 2 | E18: 3 | J18: 17
A20: Závodník | B20: Kategorie | C20: 1.pokus | D20: 2.pokus | E20: 3.pokus | F20: Nejlepší pokus | G20: Pořadí | H20: Počet bodů | J20: pořadí | K20: závodník | L20: nejlepší výkon
A21: =Závodníci!B21 -> závodník 1 | B21: =Závodníci!C21 -> Masters | C21: 1 | D21: 2 | E21: 3 | J21: 1
A22: =Závodníci!B22 -> závodník 2 | B22: =Závodníci!C22 -> Masters | C22: 1 | D22: 2 | E22: 3 | J22: 2
A23: =Závodníci!B23 -> závodník 3 | B23: =Závodníci!C23 -> Masters | C23: 1 | D23: 2 | E23: 3 | J23: 3
A24: =Závodníci!B24 -> závodník 4 | B24: =Závodníci!C24 -> Masters | C24: 1 | D24: 2 | E24: 3 | J24: 4
A25: =Závodníci!B25 -> závodník 5 | B25: =Závodníci!C25 -> Masters | C25: 1 | D25: 2 | E25: 3 | J25: 5
A26: =Závodníci!B26 -> závodník 6 | B26: Masters | C26: 1 | D26: 2 | E26: 3 | J26: 6
A27: =Závodníci!B27 -> závodník 7 | B27: Masters | C27: 1 | D27: 2 | E27: 3 | J27: 7
A28: =Závodníci!B28 -> závodník 8 | B28: Masters | C28: 1 | D28: 2 | E28: 3 | J28: 8
A29: =Závodníci!B29 -> závodník 9 | B29: Masters | C29: 1 | D29: 2 | E29: 3 | J29: 9
A31: Závodník | B31: Kategorie | C31: 1.pokus | D31: 2.pokus | E31: 3.pokus | F31: Nejlepší pokus | G31: Pořadí | H31: Počet bodů | J31: pořadí | K31: závodník | L31: nejlepší výkon
A32: =Závodníci!B33 -> závodník 1 | B32: =Závodníci!C33 -> Women | C32: 1 | D32: 2 | E32: 3 | J32: 1
A33: =Závodníci!B34 -> závodník 2 | B33: =Závodníci!C34 -> Women | C33: 1 | D33: 2 | E33: 3 | J33: 2
A34: =Závodníci!B35 -> závodník 3 | B34: =Závodníci!C35 -> Women | C34: 1 | D34: 2 | E34: 3 | J34: 3
A35: =Závodníci!B36 -> závodník 4 | B35: =Závodníci!C36 -> Women | C35: 1 | D35: 2 | E35: 3 | J35: 4
A36: =Závodníci!B37 -> závodník 5 | B36: =Závodníci!C37 -> Women | C36: 1 | D36: 2 | E36: 3 | J36: 5
A37: =Závodníci!B38 -> závodník 6 | B37: Women | C37: 1 | D37: 2 | E37: 3 | J37: 6
A38: =Závodníci!B39 -> závodník 7 | B38: Women | C38: 1 | D38: 2 | E38: 3 | J38: 7
A39: =Závodníci!B40 -> závodník 8 | B39: Women | C39: 1 | D39: 2 | E39: 3 | J39: 8

Sheet Výška
A1: Závodník | B1: Kategorie | C1: Nejlepší pokus | D1: Pořadí | E1: Počet bodů | F1: Předchozí pokusy
A3: =Závodníci!B2 -> závodník 1 | B3: =Závodníci!C2 -> Heavy A | C3: 4,20 (1st) | F3: 3,90 (2nd) / 3,60 (1st) / 3,30 (1st) / 3,00 (1st)
A4: =Závodníci!B3 -> závodník 2 | B4: =Závodníci!C3 -> Heavy A
A5: =Závodníci!B4 -> závodník 3 | B5: =Závodníci!C4 -> Heavy A
A6: =Závodníci!B5 -> závodník 4 | B6: =Závodníci!C5 -> Heavy A
A7: =Závodníci!B6 -> závodník 5 | B7: =Závodníci!C6 -> Heavy A
A8: =Závodníci!B7 -> závodník 6 | B8: =Závodníci!C7 -> Heavy A
A9: =Závodníci!B8 -> závodník 7 | B9: =Závodníci!C8 -> Heavy A
A10: =Závodníci!B9 -> závodník 8 | B10: =Závodníci!C9 -> Heavy A
A11: =Závodníci!B10 -> závodník 9 | B11: =Závodníci!C10 -> Heavy A
A12: =Závodníci!B11 -> závodník 10 | B12: =Závodníci!C11 -> Heavy A
A13: =Závodníci!B12 -> závodník 11 | B13: =Závodníci!C12 -> Heavy A
A14: =Závodníci!B13 -> závodník 12 | B14: =Závodníci!C13 -> Heavy A
A15: =Závodníci!B14 -> závodník 13 | B15: =Závodníci!C14 -> Heavy A
A16: =Závodníci!B15 -> závodník 14 | B16: Heavy A
A17: =Závodníci!B16 -> závodník 15 | B17: =Závodníci!C14 -> Heavy A
A18: =Závodníci!B17 -> závodník 16 | B18: =Závodníci!C17 -> Heavy A
A21: Závodník | B21: Kategorie | C21: Nejlepší pokus | D21: Pořadí | E21: Počet bodů | F21: Předchozí pokusy
A23: =Závodníci!B21 -> závodník 1 | B23: =Závodníci!C21 -> Masters
A24: =Závodníci!B22 -> závodník 2 | B24: =Závodníci!C22 -> Masters
A25: =Závodníci!B23 -> závodník 3 | B25: =Závodníci!C23 -> Masters
A26: =Závodníci!B24 -> závodník 4 | B26: =Závodníci!C24 -> Masters
A27: =Závodníci!B25 -> závodník 5 | B27: =Závodníci!C25 -> Masters
A28: =Závodníci!B26 -> závodník 6 | B28: =Závodníci!C26 -> Masters
A29: =Závodníci!B27 -> závodník 7 | B29: =Závodníci!C27 -> Masters
A30: =Závodníci!B28 -> závodník 8 | B30: =Závodníci!C28 -> Masters
A31: =Závodníci!B29 -> závodník 9 | B31: Masters
A33: Závodník | B33: Kategorie | C33: Nejlepší pokus | D33: Pořadí | E33: Počet bodů | F33: Předchozí pokusy
A35: =Závodníci!B33 -> závodník 1 | B35: =Závodníci!C33 -> Women
A36: =Závodníci!B34 -> závodník 2 | B36: =Závodníci!C34 -> Women
A37: =Závodníci!B35 -> závodník 3 | B37: =Závodníci!C35 -> Women
A38: =Závodníci!B36 -> závodník 4 | B38: =Závodníci!C36 -> Women
A39: =Závodníci!B37 -> závodník 5 | B39: =Závodníci!C37 -> Women
A40: =Závodníci!B38 -> závodník 6 | B40: Women
A41: =Závodníci!B39 -> závodník 7 | B41: Women
A42: =Závodníci!B40 -> závodník 8 | B42: Women
