Workbook

Sheet Závodníci
A1: číslo | B1: Jméno závodníka
A2: 1. | B2: závodník 1
A3: 2. | B3: závodník 2
A4: 3. | B4: závodník 3
A5: 4. | B5: závodník 4
A6: 5. | B6: závodník 5
A7: 6. | B7: závodník 6
A8: 7. | B8: závodník 7
A9: 8. | B9: závodník 8
A10: 9. | B10: závodník 9
A11: 10. | B11: závodník 10
A12: 11. | B12: závodník 11
... A35: 7. | B35: závodník 7

Sheet Kámen lehký
A1: číslo | B1: Lehký kámen - Heavy A | C1: 1.pokus | D1: 2.pokus | E1: 3.pokus
A2: 1. | B2: =Závodníci!B2 -> závodník 1 | C2: 1 | D2: 2 | E2: 3
A3: 2. | B3: =Závodníci!B3 -> závodník 2 | C3: 1 | D3: 2 | E3: 3
A4: 3. | B4: =Závodníci!B4 -> závodník 3 | C4: 1 | D4: 2 | E4: 3
A5: 4. | B5: =Závodníci!B5 -> závodník 4 | C5: 1 | D5: 2 | E5: 3
A6: 5. | B6: =Závodníci!B6 -> závodník 5 | C6: 1 | D6: 2 | E6: 3
A7: 6. | B7: =Závodníci!B7 -> závodník 6 | C7: 1 | D7: 2 | E7: 3
A8: 7. | B8: =Závodníci!B8 -> závodník 7 | C8: 1 | D8: 2 | E8: 3
A9: 8. | B9: =Závodníci!B9 -> závodník 8 | C9: 1 | D9: 2 | E9: 3
A10: 9. | B10: =Závodníci!B10 -> závodník 9 | C10: 1 | D10: 2 | E10: 3
A11: 10. | B11: =Závodníci!B11 -> závodník 10 | C11: 1 | D11: 2 | E11: 3
A12: 11. | B12: =Závodníci!B12 -> závodník 11 | C12: 1 | D12: 2 | E12: 3
A13: 12. | B13: =Závodníci!B13 -> závodník 12 | C13: 1 | D13: 2 | E13: 3
... A16: 15. | B16: =Závodníci!B16 -> závodník 15 | C16: 1 | D16: 2 | E16: 3
A18: číslo | B18: Lehký kámen - Masters | C18: 1.pokus | D18: 2.pokus | E18: 3.pokus
A19: 1. | B19: =Závodníci!B19 -> závodník 1 | C19: 1 | D19: 2 | E19: 3
A20: 2. | B20: =Závodníci!B20 -> závodník 2 | C20: 1 | D20: 2 | E20: 3
A21: 3. | B21: =Závodníci!B21 -> závodník 3 | C21: 1 | D21: 2 | E21: 3
A22: 4. | B22: =Závodníci!B22 -> závodník 4 | C22: 1 | D22: 2 | E22: 3
A23: 5. | B23: =Závodníci!B23 -> závodník 5 | C23: 1 | D23: 2 | E23: 3
A24: 6. | B24: =Závodníci!B24 -> závodník 6 | C24: 1 | D24: 2 | E24: 3
A25: 7. | B25: =Závodníci!B25 -> závodník 7 | C25: 1 | D25: 2 | E25: 3
A26: 8. | B26: =Závodníci!B26 -> závodník 8 | C26: 1 | D26: 2 | E26: 3
A28: číslo | B28: Lehký kámen - Women | C28: 1.pokus | D28: 2.pokus | E28: 3.pokus
A29: 1. | B29: =Závodníci!B29 -> závodník 1 | C29: 1 | D29: 2 | E29: 3
A30: 2. | B30: =Závodníci!B30 -> závodník 2 | C30: 1 | D30: 2 | E30: 3
A31: 3. | B31: =Závodníci!B31 -> závodník 3 | C31: 1 | D31: 2 | E31: 3
A32: 4. | B32: =Závodníci!B32 -> závodník 4 | C32: 1 | D32: 2 | E32: 3
A33: 5. | B33: =Závodníci!B33 -> závodník 5 | C33: 1 | D33: 2 | E33: 3
A34: 6. | B34: =Závodníci!B34 -> závodník 6 | C34: 1 | D34: 2 | E34: 3
A35: 7. | B35: =Závodníci!B35 -> závodník 7 | C35: 1 | D35: 2 | E35: 3

Sheet Kámen těžký
A1: číslo | B1: Těžký kámen - Heavy A | C1: 1.pokus | D1: 2.pokus | E1: 3.pokus
A2: 1. | B2: =Závodníci!B2 -> závodník 1 | C2: 1 | D2: 2 | E2: 3
A3: 2. | B3: =Závodníci!B3 -> závodník 2 | C3: 1 | D3: 2 | E3: 3
A4: 3. | B4: =Závodníci!B4 -> závodník 3 | C4: 1 | D4: 2 | E4: 3
A5: 4. | B5: =Závodníci!B5 -> závodník 4 | C5: 1 | D5: 2 | E5: 3
A6: 5. | B6: =Závodníci!B6 -> závodník 5 | C6: 1 | D6: 2 | E6: 3
A7: 6. | B7: =Závodníci!B7 -> závodník 6 | C7: 1 | D7: 2 | E7: 3
A8: 7. | B8: =Závodníci!B8 -> závodník 7 | C8: 1 | D8: 2 | E8: 3
A9: 8. | B9: =Závodníci!B9 -> závodník 8 | C9: 1 | D9: 2 | E9: 3
A10: 9. | B10: =Závodníci!B10 -> závodník 9 | C10: 1 | D10: 2 | E10: 3
A11: 10. | B11: =Závodníci!B11 -> závodník 10 | C11: 1 | D11: 2 | E11: 3
A12: 11. | B12: =Závodníci!B12 -> závodník 11 | C12: 1 | D12: 2 | E12: 3
A13: 12. | B13: =Závodníci!B13 -> závodník 12 | C13: 1 | D13: 2 | E13: 3
... A16: 15. | B16: =Závodníci!B16 -> závodník 15 | C16: 1 | D16: 2 | E16: 3
A18: číslo | B18: Těžký kámen - Masters | C18: 1.pokus | D18: 2.pokus | E18: 3.pokus
A19: 1. | B19: =Závodníci!B19 -> závodník 1 | C19: 1 | D19: 2 | E19: 3
A20: 2. | B20: =Závodníci!B20 -> závodník 2 | C20: 1 | D20: 2 | E20: 3
A21: 3. | B21: =Závodníci!B21 -> závodník 3 | C21: 1 | D21: 2 | E21: 3
A22: 4. | B22: =Závodníci!B22 -> závodník 4 | C22: 1 | D22: 2 | E22: 3
A23: 5. | B23: =Závodníci!B23 -> závodník 5 | C23: 1 | D23: 2 | E23: 3
A24: 6. | B24: =Závodníci!B24 -> závodník 6 | C24: 1 | D24: 2 | E24: 3
A25: 7. | B25: =Závodníci!B25 -> závodník 7 | C25: 1 | D25: 2 | E25: 3
A26: 8. | B26: =Závodníci!B26 -> závodník 8 | C26: 1 | D26: 2 | E26: 3
A28: číslo | B28: Těžký kámen - Women | C28: 1.pokus | D28: 2.pokus | E28: 3.pokus
A29: 1. | B29: =Závodníci!B29 -> závodník 1 | C29: 1 | D29: 2 | E29: 3
A30: 2. | B30: =Závodníci!B30 -> závodník 2 | C30: 1 | D30: 2 | E30: 3
A31: 3. | B31: =Závodníci!B31 -> závodník 3 | C31: 1 | D31: 2 | E31: 3
A32: 4. | B32: =Závodníci!B32 -> závodník 4 | C32: 1 | D32: 2 | E32: 3
A33: 5. | B33: =Závodníci!B33 -> závodník 5 | C33: 1 | D33: 2 | E33: 3
A34: 6. | B34: =Závodníci!B34 -> závodník 6 | C34: 1 | D34: 2 | E34: 3
A35: 7. | B35: =Závodníci!B35 -> závodník 7 | C35: 1 | D35: 2 | E35: 3

Sheet Bulina lehká
A1: číslo | B1: Bulina lehká - Heavy A | C1: 1.pokus | D1: 2.pokus | E1: 3.pokus
A2: 1. | B2: =Závodníci!B2 -> závodník 1 | C2: 1 | D2: 2 | E2: 3
A3: 2. | B3: =Závodníci!B3 -> závodník 2 | C3: 1 | D3: 2 | E3: 3
A4: 3. | B4: =Závodníci!B4 -> závodník 3 | C4: 1 | D4: 2 | E4: 3
A5: 4. | B5: =Závodníci!B5 -> závodník 4 | C5: 1 | D5: 2 | E5: 3
A6: 5. | B6: =Závodníci!B6 -> závodník 5 | C6: 1 | D6: 2 | E6: 3
A7: 6. | B7: =Závodníci!B7 -> závodník 6 | C7: 1 | D7: 2 | E7: 3
A8: 7. | B8: =Závodníci!B8 -> závodník 7 | C8: 1 | D8: 2 | E8: 3
A9: 8. | B9: =Závodníci!B9 -> závodník 8 | C9: 1 | D9: 2 | E9: 3
A10: 9. | B10: =Závodníci!B10 -> závodník 9 | C10: 1 | D10: 2 | E10: 3
A11: 10. | B11: =Závodníci!B11 -> závodník 10 | C11: 1 | D11: 2 | E11: 3
A12: 11. | B12: =Závodníci!B12 -> závodník 11 | C12: 1 | D12: 2 | E12: 3
A13: 12. | B13: =Závodníci!B13 -> závodník 12 | C13: 1 | D13: 2 | E13: 3
... A16: 15. | B16: =Závodníci!B16 -> závodník 15 | C16: 1 | D16: 2 | E16: 3
A18: číslo | B18: Bulina lehká - Masters | C18: 1.pokus | D18: 2.pokus | E18: 3.pokus
A19: 1. | B19: =Závodníci!B19 -> závodník 1 | C19: 1 | D19: 2 | E19: 3
A20: 2. | B20: =Závodníci!B20 -> závodník 2 | C20: 1 | D20: 2 | E20: 3
A21: 3. | B21: =Závodníci!B21 -> závodník 3 | C21: 1 | D21: 2 | E21: 3
A22: 4. | B22: =Závodníci!B22 -> závodník 4 | C22: 1 | D22: 2 | E22: 3
A23: 5. | B23: =Závodníci!B23 -> závodník 5 | C23: 1 | D23: 2 | E23: 3
A24: 6. | B24: =Závodníci!B24 -> závodník 6 | C24: 1 | D24: 2 | E24: 3
A25: 7. | B25: =Závodníci!B25 -> závodník 7 | C25: 1 | D25: 2 | E25: 3
A26: 8. | B26: =Závodníci!B26 -> závodník 8 | C26: 1 | D26: 2 | E26: 3
A28: číslo | B28: Bulina lehká - Women | C28: 1.pokus | D28: 2.pokus | E28: 3.pokus
A29: 1. | B29: =Závodníci!B29 -> závodník 1 | C29: 1 | D29: 2 | E29: 3
A30: 2. | B30: =Závodníci!B30 -> závodník 2 | C30: 1 | D30: 2 | E30: 3
A31: 3. | B31: =Závodníci!B31 -> závodník 3 | C31: 1 | D31: 2 | E31: 3
A32: 4. | B32: =Závodníci!B32 -> závodník 4 | C32: 1 | D32: 2 | E32: 3
A33: 5. | B33: =Závodníci!B33 -> závodník 5 | C33: 1 | D33: 2 | E33: 3
A34: 6. | B34: =Závodníci!B34 -> závodník 6 | C34: 1 | D34: 2 | E34: 3
A35: 7. | B35: =Závodníci!B35 -> závodník 7 | C35: 1 | D35: 2 | E35: 3

Sheet Bulina těžká
A1: číslo | B1: Bulina těžká - Heavy A | C1: 1.pokus | D1: 2.pokus | E1: 3.pokus
A2: 1. | B2: =Závodníci!B2 -> závodník 1 | C2: 1 | D2: 2 | E2: 3
A3: 2. | B3: =Závodníci!B3 -> závodník 2 | C3: 1 | D3: 2 | E3: 3
A4: 3. | B4: =Závodníci!B4 -> závodník 3 | C4: 1 | D4: 2 | E4: 3
A5: 4. | B5: =Závodníci!B5 -> závodník 4 | C5: 1 | D5: 2 | E5: 3
A6: 5. | B6: =Závodníci!B6 -> závodník 5 | C6: 1 | D6: 2 | E6: 3
A7: 6. | B7: =Závodníci!B7 -> závodník 6 | C7: 1 | D7: 2 | E7: 3
A8: 7. | B8: =Závodníci!B8 -> závodník 7 | C8: 1 | D8: 2 | E8: 3
A9: 8. | B9: =Závodníci!B9 -> závodník 8 | C9: 1 | D9: 2 | E9: 3
A10: 9. | B10: =Závodníci!B10 -> závodník 9 | C10: 1 | D10: 2 | E10: 3
A11: 10. | B11: =Závodníci!B11 -> závodník 10 | C11: 1 | D11: 2 | E11: 3
A12: 11. | B12: =Závodníci!B12 -> závodník 11 | C12: 1 | D12: 2 | E12: 3
A13: 12. | B13: =Závodníci!B13 -> závodník 12 | C13: 1 | D13: 2 | E13: 3
... A16: 15. | B16: =Závodníci!B16 -> závodník 15 | C16: 1 | D16: 2 | E16: 3
A18: číslo | B18: Bulina těžká - Masters | C18: 1.pokus | D18: 2.pokus | E18: 3.pokus
A19: 1. | B19: =Závodníci!B19 -> závodník 1 | C19: 1 | D19: 2 | E19: 3
A20: 2. | B20: =Závodníci!B20 -> závodník 2 | C20: 1 | D20: 2 | E20: 3
A21: 3. | B21: =Závodníci!B21 -> závodník 3 | C21: 1 | D21: 2 | E21: 3
A22: 4. | B22: =Závodníci!B22 -> závodník 4 | C22: 1 | D22: 2 | E22: 3
A23: 5. | B23: =Závodníci!B23 -> závodník 5 | C23: 1 | D23: 2 | E23: 3
A24: 6. | B24: =Závodníci!B24 -> závodník 6 | C24: 1 | D24: 2 | E24: 3
A25: 7. | B25: =Závodníci!B25 -> závodník 7 | C25: 1 | D25: 2 | E25: 3
A26: 8. | B26: =Závodníci!B26 -> závodník 8 | C26: 1 | D26: 2 | E26: 3
A28: číslo | B28: Bulina těžká - Women | C28: 1.pokus | D28: 2.pokus | E28: 3.pokus
A29: 1. | B29: =Závodníci!B29 -> závodník 1 | C29: 1 | D29: 2 | E29: 3
A30: 2. | B30: =Závodníci!B30 -> závodník 2 | C30: 1 | D30: 2 | E30: 3
A31: 3. | B31: =Závodníci!B31 -> závodník 3 | C31: 1 | D31: 2 | E31: 3
A32: 4. | B32: =Závodníci!B32 -> závodník 4 | C32: 1 | D32: 2 | E32: 3
A33: 5. | B33: =Závodníci!B33 -> závodník 5 | C33: 1 | D33: 2 | E33: 3
A34: 6. | B34: =Závodníci!B34 -> závodník 6 | C34: 1 | D34: 2 | E34: 3
A35: 7. | B35: =Závodníci!B35 -> závodník 7 | C35: 1 | D35: 2 | E35: 3

Sheet Kladivo lehké
A1: číslo | B1: Kladivo lehké - Heavy A | C1: 1.pokus | D1: 2.pokus | E1: 3.pokus
A2: 1. | B2: =Závodníci!B2 -> závodník 1 | C2: 1 | D2: 2 | E2: 3
A3: 2. | B3: =Závodníci!B3 -> závodník 2 | C3: 1 | D3: 2 | E3: 3
A4: 3. | B4: =Závodníci!B4 -> závodník 3 | C4: 1 | D4: 2 | E4: 3
A5: 4. | B5: =Závodníci!B5 -> závodník 4 | C5: 1 | D5: 2 | E5: 3
A6: 5. | B6: =Závodníci!B6 -> závodník 5 | C6: 1 | D6: 2 | E6: 3
A7: 6. | B7: =Závodníci!B7 -> závodník 6 | C7: 1 | D7: 2 | E7: 3
A8: 7. | B8: =Závodníci!B8 -> závodník 7 | C8: 1 | D8: 2 | E8: 3
A9: 8. | B9: =Závodníci!B9 -> závodník 8 | C9: 1 | D9: 2 | E9: 3
A10: 9. | B10: =Závodníci!B10 -> závodník 9 | C10: 1 | D10: 2 | E10: 3
A11: 10. | B11: =Závodníci!B11 -> závodník 10 | C11: 1 | D11: 2 | E11: 3
A12: 11. | B12: =Závodníci!B12 -> závodník 11 | C12: 1 | D12: 2 | E12: 3
A13: 12. | B13: =Závodníci!B13 -> závodník 12 | C13: 1 | D13: 2 | E13: 3
... A16: 15. | B16: =Závodníci!B16 -> závodník 15 | C16: 1 | D16: 2 | E16: 3
A18: číslo | B18: Kladivo lehké - Masters | C18: 1.pokus | D18: 2.pokus | E18: 3.pokus
A19: 1. | B19: =Závodníci!B19 -> závodník 1 | C19: 1 | D19: 2 | E19: 3
A20: 2. | B20: =Závodníci!B20 -> závodník 2 | C20: 1 | D20: 2 | E20: 3
A21: 3. | B21: =Závodníci!B21 -> závodník 3 | C21: 1 | D21: 2 | E21: 3
A22: 4. | B22: =Závodníci!B22 -> závodník 4 | C22: 1 | D22: 2 | E22: 3
A23: 5. | B23: =Závodníci!B23 -> závodník 5 | C23: 1 | D23: 2 | E23: 3
A24: 6. | B24: =Závodníci!B24 -> závodník 6 | C24: 1 | D24: 2 | E24: 3
A25: 7. | B25: =Závodníci!B25 -> závodník 7 | C25: 1 | D25: 2 | E25: 3
A26: 8. | B26: =Závodníci!B26 -> závodník 8 | C26: 1 | D26: 2 | E26: 3
A28: číslo | B28: Kladivo lehké - Women | C28: 1.pokus | D28: 2.pokus | E28: 3.pokus
A29: 1. | B29: =Závodníci!B29 -> závodník 1 | C29: 1 | D29: 2 | E29: 3
A30: 2. | B30: =Závodníci!B30 -> závodník 2 | C30: 1 | D30: 2 | E30: 3
A31: 3. | B31: =Závodníci!B31 -> závodník 3 | C31: 1 | D31: 2 | E31: 3
A32: 4. | B32: =Závodníci!B32 -> závodník 4 | C32: 1 | D32: 2 | E32: 3
A33: 5. | B33: =Závodníci!B33 -> závodník 5 | C33: 1 | D33: 2 | E33: 3
A34: 6. | B34: =Závodníci!B34 -> závodník 6 | C34: 1 | D34: 2 | E34: 3
A35: 7. | B35: =Závodníci!B35 -> závodník 7 | C35: 1 | D35: 2 | E35: 3

Sheet Kladivo těžké
A1: číslo | B1: Kladivo těžké - Heavy A | C1: 1.pokus | D1: 2.pokus | E1: 3.pokus
A2: 1. | B2: =Závodníci!B2 -> závodník 1 | C2: 1 | D2: 2 | E2: 3
A3: 2. | B3: =Závodníci!B3 -> závodník 2 | C3: 1 | D3: 2 | E3: 3
A4: 3. | B4: =Závodníci!B4 -> závodník 3 | C4: 1 | D4: 2 | E4: 3
A5: 4. | B5: =Závodníci!B5 -> závodník 4 | C5: 1 | D5: 2 | E5: 3
A6: 5. | B6: =Závodníci!B6 -> závodník 5 | C6: 1 | D6: 2 | E6: 3
A7: 6. | B7: =Závodníci!B7 -> závodník 6 | C7: 1 | D7: 2 | E7: 3
A8: 7. | B8: =Závodníci!B8 -> závodník 7 | C8: 1 | D8: 2 | E8: 3
A9: 8. | B9: =Závodníci!B9 -> závodník 8 | C9: 1 | D9: 2 | E9: 3
A10: 9. | B10: =Závodníci!B10 -> závodník 9 | C10: 1 | D10: 2 | E10: 3
A11: 10. | B11: =Závodníci!B11 -> závodník 10 | C11: 1 | D11: 2 | E11: 3
A12: 11. | B12: =Závodníci!B12 -> závodník 11 | C12: 1 | D12: 2 | E12: 3
A13: 12. | B13: =Závodníci!B13 -> závodník 12 | C13: 1 | D13: 2 | E13: 3
... A16: 15. | B16: =Závodníci!B16 -> závodník 15 | C16: 1 | D16: 2 | E16: 3
A18: číslo | B18: Kladivo těžké - Masters | C18: 1.pokus | D18: 2.pokus | E18: 3.pokus
A19: 1. | B19: =Závodníci!B19 -> závodník 1 | C19: 1 | D19: 2 | E19: 3
A20: 2. | B20: =Závodníci!B20 -> závodník 2 | C20: 1 | D20: 2 | E20: 3
A21: 3. | B21: =Závodníci!B21 -> závodník 3 | C21: 1 | D21: 2 | E21: 3
A22: 4. | B22: =Závodníci!B22 -> závodník 4 | C22: 1 | D22: 2 | E22: 3
A23: 5. | B23: =Závodníci!B23 -> závodník 5 | C23: 1 | D23: 2 | E23: 3
A24: 6. | B24: =Závodníci!B24 -> závodník 6 | C24: 1 | D24: 2 | E24: 3
A25: 7. | B25: =Závodníci!B25 -> závodník 7 | C25: 1 | D25: 2 | E25: 3
A26: 8. | B26: =Závodníci!B26 -> závodník 8 | C26: 1 | D26: 2 | E26: 3
A28: číslo | B28: Kladivo těžké - Women | C28: 1.pokus | D28: 2.pokus | E28: 3.pokus
A29: 1. | B29: =Závodníci!B29 -> závodník 1 | C29: 1 | D29: 2 | E29: 3
A30: 2. | B30: =Závodníci!B30 -> závodník 2 | C30: 1 | D30: 2 | E30: 3
A31: 3. | B31: =Závodníci!B31 -> závodník 3 | C31: 1 | D31: 2 | E31: 3
A32: 4. | B32: =Závodníci!B32 -> závodník 4 | C32: 1 | D32: 2 | E32: 3
A33: 5. | B33: =Závodníci!B33 -> závodník 5 | C33: 1 | D33: 2 | E33: 3
A34: 6. | B34: =Závodníci!B34 -> závodník 6 | C34: 1 | D34: 2 | E34: 3
A35: 7. | B35: =Závodníci!B35 -> závodník 7 | C35: 1 | D35: 2 | E35: 3

Sheet Kláda
A1: číslo | B1: Kláda - Heavy A | C1: 1.pokus | D1: 2.pokus | E1: 3.pokus
A2: 1. | B2: =Závodníci!B2 -> závodník 1 | C2: 1 | D2: 2 | E2: 3
A3: 2. | B3: =Závodníci!B3 -> závodník 2 | C3: 1 | D3: 2 | E3: 3
A4: 3. | B4: =Závodníci!B4 -> závodník 3 | C4: 1 | D4: 2 | E4: 3
A5: 4. | B5: =Závodníci!B5 -> závodník 4 | C5: 1 | D5: 2 | E5: 3
A6: 5. | B6: =Závodníci!B6 -> závodník 5 | C6: 1 | D6: 2 | E6: 3
A7: 6. | B7: =Závodníci!B7 -> závodník 6 | C7: 1 | D7: 2 | E7: 3
A8: 7. | B8: =Závodníci!B8 -> závodník 7 | C8: 1 | D8: 2 | E8: 3
A9: 8. | B9: =Závodníci!B9 -> závodník 8 | C9: 1 | D9: 2 | E9: 3
A10: 9. | B10: =Závodníci!B10 -> závodník 9 | C10: 1 | D10: 2 | E10: 3
A11: 10. | B11: =Závodníci!B11 -> závodník 10 | C11: 1 | D11: 2 | E11: 3
A12: 11. | B12: =Závodníci!B12 -> závodník 11 | C12: 1 | D12: 2 | E12: 3
A13: 12. | B13: =Závodníci!B13 -> závodník 12 | C13: 1 | D13: 2 | E13: 3
... A16: 15. | B16: =Závodníci!B16 -> závodník 15 | C16: 1 | D16: 2 | E16: 3
A18: číslo | B18: Kláda - Masters | C18: 1.pokus | D18: 2.pokus | E18: 3.pokus
A19: 1. | B19: =Závodníci!B19 -> závodník 1 | C19: 1 | D19: 2 | E19: 3
A20: 2. | B20: =Závodníci!B20 -> závodník 2 | C20: 1 | D20: 2 | E20: 3
A21: 3. | B21: =Závodníci!B21 -> závodník 3 | C21: 1 | D21: 2 | E21: 3
A22: 4. | B22: =Závodníci!B22 -> závodník 4 | C22: 1 | D22: 2 | E22: 3
A23: 5. | B23: =Závodníci!B23 -> závodník 5 | C23: 1 | D23: 2 | E23: 3
A24: 6. | B24: =Závodníci!B24 -> závodník 6 | C24: 1 | D24: 2 | E24: 3
A25: 7. | B25: =Závodníci!B25 -> závodník 7 | C25: 1 | D25: 2 | E25: 3
A26: 8. | B26: =Závodníci!B26 -> závodník 8 | C26: 1 | D26: 2 | E26: 3
A28: číslo | B28: Kláda - Women | C28: 1.pokus | D28: 2.pokus | E28: 3.pokus
A29: 1. | B29: =Závodníci!B29 -> závodník 1 | C29: 1 | D29: 2 | E29: 3
A30: 2. | B30: =Závodníci!B30 -> závodník 2 | C30: 1 | D30: 2 | E30: 3
A31: 3. | B31: =Závodníci!B31 -> závodník 3 | C31: 1 | D31: 2 | E31: 3
A32: 4. | B32: =Závodníci!B32 -> závodník 4 | C32: 1 | D32: 2 | E32: 3
A33: 5. | B33: =Závodníci!B33 -> závodník 5 | C33: 1 | D33: 2 | E33: 3
A34: 6. | B34: =Závodníci!B34 -> závodník 6 | C34: 1 | D34: 2 | E34: 3
A35: 7. | B35: =Závodníci!B35 -> závodník 7 | C35: 1 | D35: 2 | E35: 3

Sheet Výška A
A1: Výška Heavy A | T1: Nejlepší pokus
B2: 1.pokus | C2: 2.pokus | D2: 3.pokus | E2: 1.pokus | F2: 2.pokus | G2: 3.pokus | H2: 1.pokus | I2: 2.pokus | J2: 3.pokus | K2: 1.pokus | L2: 2.pokus | M2: 3.pokus | N2: 1.pokus | O2: 2.pokus | P2: 3.pokus | Q2: 1.pokus | R2: 2.pokus | S2: 3.pokus
A3: =Závodníci!B2 -> závodník 1
A4: =Závodníci!B3 -> závodník 2
A5: =Závodníci!B4 -> závodník 3
A6: =Závodníci!B5 -> závodník 4
A7: =Závodníci!B6 -> závodník 5
A8: =Závodníci!B7 -> závodník 6
A9: =Závodníci!B8 -> závodník 7
A10: =Závodníci!B9 -> závodník 8
A11: =Závodníci!B10 -> závodník 9
A12: =Závodníci!B11 -> závodník 10
A13: =Závodníci!B12 -> závodník 11
A14: =Závodníci!B13 -> závodník 12
... A17: =Závodníci!B16 -> závodník 15
A18: Výška Heavy A | T18: Nejlepší pokus
B19: 1.pokus | C19: 2.pokus | D19: 3.pokus | E19: 1.pokus | F19: 2.pokus | G19: 3.pokus | H19: 1.pokus | I19: 2.pokus | J19: 3.pokus | K19: 1.pokus | L19: 2.pokus | M19: 3.pokus | N19: 1.pokus | O19: 2.pokus | P19: 3.pokus | Q19: 1.pokus | R19: 2.pokus | S19: 3.pokus
A20: =A3 -> závodník 1
A21: =A4 -> závodník 2
A22: =A5 -> závodník 3
A23: =A6 -> závodník 4
A24: =A7 -> závodník 5
A25: =A8 -> závodník 6
A26: =A9 -> závodník 7
A27: =A10 -> závodník 8
A28: =A11 -> závodník 9
A29: =A12 -> závodník 10
A30: =A13 -> závodník 11
A31: =A14 -> závodník 12
... A34: =A17 -> závodník 15

Sheet Výška M+W
A1: Výška | T1: Nejlepší pokus
B2: 1.pokus | C2: 2.pokus | D2: 3.pokus | E2: 1.pokus | F2: 2.pokus | G2: 3.pokus | H2: 1.pokus | I2: 2.pokus | J2: 3.pokus | K2: 1.pokus | L2: 2.pokus | M2: 3.pokus | N2: 1.pokus | O2: 2.pokus | P2: 3.pokus | Q2: 1.pokus | R2: 2.pokus | S2: 3.pokus
A3: =Závodníci!B19 -> závodník 1
A4: =Závodníci!B20 -> závodník 2
A5: =Závodníci!B21 -> závodník 3
A6: =Závodníci!B22 -> závodník 4
A7: =Závodníci!B23 -> závodník 5
A8: =Závodníci!B24 -> závodník 6
A9: =Závodníci!B25 -> závodník 7
A10: =Závodníci!B26 -> závodník 8
A11: =Závodníci!B29 -> závodník 1
A12: =Závodníci!B30 -> závodník 2
A13: =Závodníci!B31 -> závodník 3
A14: =Závodníci!B32 -> závodník 4
A15: =Závodníci!B33 -> závodník 5
A16: =Závodníci!B34 -> závodník 6
A17: =Závodníci!B35 -> závodník 7
A18: Výška | T18: Nejlepší pokus
B19: 1.pokus | C19: 2.pokus | D19: 3.pokus | E19: 1.pokus | F19: 2.pokus | G19: 3.pokus | H19: 1.pokus | I19: 2.pokus | J19: 3.pokus | K19: 1.pokus | L19: 2.pokus | M19: 3.pokus | N19: 1.pokus | O19: 2.pokus | P19: 3.pokus | Q19: 1.pokus | R19: 2.pokus | S19: 3.pokus
A20: =A3 -> závodník 1
A21: =A4 -> závodník 2
A22: =A5 -> závodník 3
A23: =A6 -> závodník 4
A24: =A7 -> závodník 5
A25: =A8 -> závodník 6
A26: =A9 -> závodník 7
A27: =A10 -> závodník 8
A28: =A11 -> závodník 1
A29: =A12 -> závodník 2
A30: =A13 -> závodník 3
A31: =A14 -> závodník 4
... A34: =A17 -> závodník 7
